BEGIN:VCALENDAR
PRODID:-//dvv-bw.de//dvv.Portalplattform//DE
VERSION:2.0
METHOD:PUBLISH
BEGIN:VEVENT
DTSTART:20261202T130000Z
DTEND:20261202T150000Z
DTSTAMP:20260422T160255Z
UID:523252614252-523252608898-1796166000000
SUMMARY:Adventsfeier für Senioren
LOCATION:Stadthalle
DESCRIPTION:Adventsfeier für Senioren
CLASS:PUBLIC
X-ALT-DESC;FMTTYPE=text/html:Adventsfeier für Senioren
END:VEVENT
END:VCALENDAR
