BEGIN:VCALENDAR
PRODID:-//dvv-bw.de//dvv.Portalplattform//DE
VERSION:2.0
METHOD:PUBLISH
BEGIN:VEVENT
DTSTART:20260911T220000Z
DTEND:20260911T220000Z
DTSTAMP:20260420T223605Z
UID:523252594908-523252589549-1789164000000
SUMMARY:Altpapiersammlung
LOCATION:Stadtgebiet Heubach, Buch und Beuren
DESCRIPTION:Altpapiersammlung
CLASS:PUBLIC
X-ALT-DESC;FMTTYPE=text/html:Altpapiersammlung
END:VEVENT
END:VCALENDAR
