BEGIN:VCALENDAR
PRODID:-//dvv-bw.de//dvv.Portalplattform//DE
VERSION:2.0
METHOD:PUBLISH
BEGIN:VEVENT
DTSTART:20260612T220000Z
DTEND:20260613T220000Z
DTSTAMP:20260420T234813Z
RRULE;FREQ=DAILY;UNTIL=20260614T215959Z
UID:523252586302-523252589500-1781301600000
SUMMARY:Bouleturnier
LOCATION:Bouleclub und Parkplatz Stellung
DESCRIPTION:Bouleturnier
CLASS:PUBLIC
X-ALT-DESC;FMTTYPE=text/html:Bouleturnier
END:VEVENT
END:VCALENDAR
