BEGIN:VCALENDAR
PRODID:-//dvv-bw.de//dvv.Portalplattform//DE
VERSION:2.0
METHOD:PUBLISH
BEGIN:VEVENT
DTSTART:20260514T080000Z
DTEND:20260514T100000Z
DTSTAMP:20260424T173309Z
UID:523252572569-523252573765-1778709600000
SUMMARY:Christi Himmelfahrt
LOCATION:Barnbergkapelle Mögglingen
DESCRIPTION:Christi Himmelfahrt
CLASS:PUBLIC
X-ALT-DESC;FMTTYPE=text/html:Christi Himmelfahrt
END:VEVENT
END:VCALENDAR
