BEGIN:VCALENDAR
PRODID:-//dvv-bw.de//dvv.Portalplattform//DE
VERSION:2.0
METHOD:PUBLISH
BEGIN:VEVENT
DTSTART:20260422T150000Z
DTEND:20260422T170000Z
DTSTAMP:20260422T150000Z
UID:523254573750-523254573650-1776808800000
SUMMARY:Einladung zur Sitzung des Bauausschusses
LOCATION:Rathaus Sitzungssaal
DESCRIPTION:Zur Sitzung des des Bauausschusses am Mittwoch\, 22.04.2026 um 17:00 Uhr\, Sitzungssaal des Rathauses\, Hauptstraße 53\, 73540 Heubach sind die Bürgerinnen und Bürger herzlich eingeladen.
CLASS:PUBLIC
X-ALT-DESC;FMTTYPE=text/html:Zur Sitzung des des Bauausschusses am Mittwoch\, 22.04.2026 um 17:00 Uhr\, Sitzungssaal des Rathauses\, Hauptstraße 53\, 73540 Heubach sind die Bürgerinnen und Bürger herzlich eingeladen.
END:VEVENT
END:VCALENDAR
