BEGIN:VCALENDAR
PRODID:-//dvv-bw.de//dvv.Portalplattform//DE
VERSION:2.0
METHOD:PUBLISH
BEGIN:VEVENT
DTSTART:20270109T180000Z
DTEND:20270109T200000Z
DTSTAMP:20260422T032324Z
UID:523253480816-523252608895-1799449200000
SUMMARY:Familienabend
LOCATION:Vereinsheim
DESCRIPTION:Familienabend
CLASS:PUBLIC
X-ALT-DESC;FMTTYPE=text/html:Familienabend
END:VEVENT
END:VCALENDAR
