BEGIN:VCALENDAR
PRODID:-//dvv-bw.de//dvv.Portalplattform//DE
VERSION:2.0
METHOD:PUBLISH
BEGIN:VEVENT
DTSTART:20261219T180000Z
DTEND:20261219T200000Z
DTSTAMP:20260419T145543Z
UID:523252614267-523252614711-1797634800000
SUMMARY:Familienabend mit Theater
LOCATION:Pfaffenberghalle
DESCRIPTION:Familienabend mit Theater
CLASS:PUBLIC
X-ALT-DESC;FMTTYPE=text/html:Familienabend mit Theater
END:VEVENT
END:VCALENDAR
