BEGIN:VCALENDAR
PRODID:-//dvv-bw.de//dvv.Portalplattform//DE
VERSION:2.0
METHOD:PUBLISH
BEGIN:VEVENT
DTSTART:20260301T103000Z
DTEND:20260301T123000Z
DTSTAMP:20260301T103000Z
UID:523252566700-523252566600-1772319600000
SUMMARY:Fastenessen
LOCATION:Evangelisches Gemeindehaus
DESCRIPTION:Fastenessen
CLASS:PUBLIC
X-ALT-DESC;FMTTYPE=text/html:Fastenessen
END:VEVENT
END:VCALENDAR
