BEGIN:VCALENDAR
PRODID:-//dvv-bw.de//dvv.Portalplattform//DE
VERSION:2.0
METHOD:PUBLISH
BEGIN:VEVENT
DTSTART:20260509T080000Z
DTEND:20260509T100000Z
DTSTAMP:20260422T034922Z
UID:523252572562-523252573758-1778277600000
SUMMARY:Flohmarkt
LOCATION:Im Dorf
DESCRIPTION:Flohmarkt
CLASS:PUBLIC
X-ALT-DESC;FMTTYPE=text/html:Flohmarkt
END:VEVENT
END:VCALENDAR
