BEGIN:VCALENDAR
PRODID:-//dvv-bw.de//dvv.Portalplattform//DE
VERSION:2.0
METHOD:PUBLISH
BEGIN:VEVENT
DTSTART:20260523T080000Z
DTEND:20260523T100000Z
DTSTAMP:20260420T031625Z
UID:523252572576-523252573771-1779487200000
SUMMARY:Gartenbegehung
LOCATION:Anlage Ost / West
DESCRIPTION:Anlage Ost 10 Uhr
Anlage West 11 Uhr
CLASS:PUBLIC
X-ALT-DESC;FMTTYPE=text/html:Anlage Ost 10 Uhr<br>Anlage West 11 Uhr
END:VEVENT
END:VCALENDAR
