BEGIN:VCALENDAR
PRODID:-//dvv-bw.de//dvv.Portalplattform//DE
VERSION:2.0
METHOD:PUBLISH
BEGIN:VEVENT
DTSTART:20260904T220000Z
DTEND:20260904T220000Z
DTSTAMP:20260425T160520Z
UID:523252594905-523252589546-1788559200000
SUMMARY:HEUBACH WANDERT
LOCATION:Wanderung rund um Heubach
DESCRIPTION:HEUBACH WANDERT
CLASS:PUBLIC
X-ALT-DESC;FMTTYPE=text/html:HEUBACH WANDERT
END:VEVENT
END:VCALENDAR
