BEGIN:VCALENDAR
PRODID:-//dvv-bw.de//dvv.Portalplattform//DE
VERSION:2.0
METHOD:PUBLISH
BEGIN:VEVENT
DTSTART:20261027T073000Z
DTEND:20261030T160000Z
DTSTAMP:20260419T220650Z
RRULE;FREQ=DAILY;UNTIL=20261030T225959Z
UID:523252599805-523252596144-1793055600000
SUMMARY:Herbstfreizeit
LOCATION:Jugendhaus
DESCRIPTION:Herbstfreizeit
CLASS:PUBLIC
X-ALT-DESC;FMTTYPE=text/html:Herbstfreizeit
END:VEVENT
END:VCALENDAR
