BEGIN:VCALENDAR
PRODID:-//dvv-bw.de//dvv.Portalplattform//DE
VERSION:2.0
METHOD:PUBLISH
BEGIN:VEVENT
DTSTART:20261128T133000Z
DTEND:20261128T153000Z
DTSTAMP:20260424T053036Z
UID:523252608997-523252608894-1795820400000
SUMMARY:Jugendjahresfeier
LOCATION:Pfaffenberghalle
DESCRIPTION:Jugendjahresfeier
CLASS:PUBLIC
X-ALT-DESC;FMTTYPE=text/html:Jugendjahresfeier
END:VEVENT
END:VCALENDAR
