BEGIN:VCALENDAR
PRODID:-//dvv-bw.de//dvv.Portalplattform//DE
VERSION:2.0
METHOD:PUBLISH
BEGIN:VEVENT
DTSTART:20260507T170000Z
DTEND:20260507T190000Z
DTSTAMP:20260421T002734Z
UID:523254290550-523254290450-1778104800000
SUMMARY:Klaus Maier – Ein Bürgermeister erzählt
LOCATION:Stadtbibliothek
DESCRIPTION:Klaus Maier war viele Jahre Bürgermeister von Heubach und hat die Stadt geprägt wie kaum ein anderer. Bei dieser besonderen Lesung nimmt er das Publikum mit auf eine persönliche Reise durch fast drei Jahrzehnte Stadtgeschichte – mit Anekdoten\, Erinnerungen und Einblicken hinter die Kulissen des kommunalen Lebens. Eintritt frei.
CLASS:PUBLIC
X-ALT-DESC;FMTTYPE=text/html:Klaus Maier war viele Jahre Bürgermeister von Heubach und hat die Stadt geprägt wie kaum ein anderer. Bei dieser besonderen Lesung nimmt er das Publikum mit auf eine persönliche Reise durch fast drei Jahrzehnte Stadtgeschichte &ndash; mit Anekdoten\, Erinnerungen und Einblicken hinter die Kulissen des kommunalen Lebens. Eintritt frei.
END:VEVENT
END:VCALENDAR
