BEGIN:VCALENDAR
PRODID:-//dvv-bw.de//dvv.Portalplattform//DE
VERSION:2.0
METHOD:PUBLISH
BEGIN:VEVENT
DTSTART:20261211T230000Z
DTEND:20261212T230000Z
DTSTAMP:20260424T132036Z
RRULE;FREQ=DAILY;UNTIL=20261213T225959Z
UID:523252614262-523252614707-1797030000000
SUMMARY:Kugelmarkt
DESCRIPTION:Kugelmarkt
CLASS:PUBLIC
X-ALT-DESC;FMTTYPE=text/html:Kugelmarkt
END:VEVENT
END:VCALENDAR
