BEGIN:VCALENDAR
PRODID:-//dvv-bw.de//dvv.Portalplattform//DE
VERSION:2.0
METHOD:PUBLISH
BEGIN:VEVENT
DTSTART:20260509T170000Z
DTEND:20260509T190000Z
DTSTAMP:20260421T234725Z
UID:523253635564-523252573757-1778277600000
SUMMARY:Lehrerkonzert
LOCATION:Silberwarenfabrik
DESCRIPTION:In entspannter Atmosphäre stellen die Pädagoginnen und Pädagogen\, die den musikalischen Nachwuchs der Stadt begleiten und fördern\, die künstlerische Seite der Musikschule in den Mittelpunkt. \nEintritt frei
CLASS:PUBLIC
X-ALT-DESC;FMTTYPE=text/html:In entspannter Atmosphäre stellen die Pädagoginnen und Pädagogen\, die den musikalischen Nachwuchs der Stadt begleiten und fördern\, die künstlerische Seite der Musikschule in den Mittelpunkt. <br>Eintritt frei
END:VEVENT
END:VCALENDAR
