BEGIN:VCALENDAR
PRODID:-//dvv-bw.de//dvv.Portalplattform//DE
VERSION:2.0
METHOD:PUBLISH
BEGIN:VEVENT
DTSTART:20260718T110000Z
DTEND:20260718T130000Z
DTSTAMP:20260424T205817Z
UID:523252586327-523252589524-1784325600000
SUMMARY:Sommerfest 1. HHV
LOCATION:Wirtsberg
DESCRIPTION:Sommerfest 1. HHV
CLASS:PUBLIC
X-ALT-DESC;FMTTYPE=text/html:Sommerfest 1. HHV
END:VEVENT
END:VCALENDAR
