BEGIN:VCALENDAR
PRODID:-//dvv-bw.de//dvv.Portalplattform//DE
VERSION:2.0
METHOD:PUBLISH
BEGIN:VEVENT
DTSTART:20260504T170000Z
DTEND:20260504T190000Z
DTSTAMP:20260419T184019Z
UID:523252572559-523252573755-1777845600000
SUMMARY:Taizélieder - Singen
LOCATION:Kirche St. Ulrich
DESCRIPTION:Taizélieder - Singen
CLASS:PUBLIC
X-ALT-DESC;FMTTYPE=text/html:Taizélieder - Singen
END:VEVENT
END:VCALENDAR
