BEGIN:VCALENDAR
PRODID:-//dvv-bw.de//dvv.Portalplattform//DE
VERSION:2.0
METHOD:PUBLISH
BEGIN:VEVENT
DTSTART:20261012T170000Z
DTEND:20261012T190000Z
DTSTAMP:20260424T090003Z
UID:523252599800-523252596139-1791756000000
SUMMARY:Taizélieder - Singen
LOCATION:Kirche St. Ulrich
DESCRIPTION:Taizélieder - Singen
CLASS:PUBLIC
X-ALT-DESC;FMTTYPE=text/html:Taizélieder - Singen
END:VEVENT
END:VCALENDAR
