BEGIN:VCALENDAR
PRODID:-//dvv-bw.de//dvv.Portalplattform//DE
VERSION:2.0
METHOD:PUBLISH
BEGIN:VEVENT
DTSTART:20260815T140000Z
DTEND:20260815T160000Z
DTSTAMP:20260420T060741Z
UID:523253635575-523252589541-1786744800000
SUMMARY:Tiroler Abend mit den Goldegg - Buam
LOCATION:Albvereinshütte
DESCRIPTION:Die Goldegg-Buam spielen wieder zünftig auf. Ein klasse Sound\, dazu leckere Schmankerl aus der Küche und kühle Getränke. Was braucht man mehr\, um einen tollen Abend zu verbringen?
CLASS:PUBLIC
X-ALT-DESC;FMTTYPE=text/html:Die Goldegg-Buam spielen wieder zünftig auf. Ein klasse Sound\, dazu leckere Schmankerl aus der Küche und kühle Getränke. Was braucht man mehr\, um einen tollen Abend zu verbringen?
END:VEVENT
END:VCALENDAR
