BEGIN:VCALENDAR
PRODID:-//dvv-bw.de//dvv.Portalplattform//DE
VERSION:2.0
METHOD:PUBLISH
BEGIN:VEVENT
DTSTART:20261005T123000Z
DTEND:20261005T143000Z
DTSTAMP:20260423T141755Z
UID:523252594925-523252596116-1791151200000
SUMMARY:Volksliedersingen
LOCATION:Sängerheim Bahnhof
DESCRIPTION:Volksliedersingen
CLASS:PUBLIC
X-ALT-DESC;FMTTYPE=text/html:Volksliedersingen
END:VEVENT
END:VCALENDAR
