BEGIN:VCALENDAR
PRODID:-//dvv-bw.de//dvv.Portalplattform//DE
VERSION:2.0
METHOD:PUBLISH
BEGIN:VEVENT
DTSTART:20261207T133000Z
DTEND:20261207T153000Z
DTSTAMP:20260421T221652Z
UID:523252614259-523252614704-1796598000000
SUMMARY:Volksliedersingen
LOCATION:Sängerheim Bahnhof
DESCRIPTION:Volksliedersingen
CLASS:PUBLIC
X-ALT-DESC;FMTTYPE=text/html:Volksliedersingen
END:VEVENT
END:VCALENDAR
